BEGIN:VCALENDAR
VERSION:2.0
PRODID:-//Asimmetric//Events//DE
CALSCALE:GREGORIAN
METHOD:PUBLISH
BEGIN:VEVENT
UID:event-3371@asimmetric.de
DTSTAMP:20260420T133627Z
DTSTART:20260627T210000
DTEND:20260628T000000
SUMMARY:DJ: Dorfadel
LOCATION:Asimmetric\, Venloer Straße 196\, 50823 Köln
URL:https://asimmetric.de/event/2026-06-27-dorfadel/
END:VEVENT
END:VCALENDAR
